BEGIN:VCALENDAR
VERSION:2.0
PRODID:-//PfD Lampertheim - ECPv6.15.20//NONSGML v1.0//EN
CALSCALE:GREGORIAN
METHOD:PUBLISH
X-ORIGINAL-URL:https://www.pfd-lampertheim.de
X-WR-CALDESC:Veranstaltungen für PfD Lampertheim
REFRESH-INTERVAL;VALUE=DURATION:PT1H
X-Robots-Tag:noindex
X-PUBLISHED-TTL:PT1H
BEGIN:VTIMEZONE
TZID:Europe/Berlin
BEGIN:DAYLIGHT
TZOFFSETFROM:+0100
TZOFFSETTO:+0200
TZNAME:CEST
DTSTART:20240331T010000
END:DAYLIGHT
BEGIN:STANDARD
TZOFFSETFROM:+0200
TZOFFSETTO:+0100
TZNAME:CET
DTSTART:20241027T010000
END:STANDARD
BEGIN:DAYLIGHT
TZOFFSETFROM:+0100
TZOFFSETTO:+0200
TZNAME:CEST
DTSTART:20250330T010000
END:DAYLIGHT
BEGIN:STANDARD
TZOFFSETFROM:+0200
TZOFFSETTO:+0100
TZNAME:CET
DTSTART:20251026T010000
END:STANDARD
BEGIN:DAYLIGHT
TZOFFSETFROM:+0100
TZOFFSETTO:+0200
TZNAME:CEST
DTSTART:20260329T010000
END:DAYLIGHT
BEGIN:STANDARD
TZOFFSETFROM:+0200
TZOFFSETTO:+0100
TZNAME:CET
DTSTART:20261025T010000
END:STANDARD
END:VTIMEZONE
BEGIN:VEVENT
DTSTART;TZID=Europe/Berlin:20250927T120000
DTEND;TZID=Europe/Berlin:20250927T170000
DTSTAMP:20260421T225328
CREATED:20251002T075340Z
LAST-MODIFIED:20251024T113423Z
UID:3172-1758974400-1758992400@www.pfd-lampertheim.de
SUMMARY:Radikal höflich im Umgang mit Rechtspopulismus
DESCRIPTION:„Klartext mit Höflichkeit – Souverän im Dialog mit Rechtspopulismus“\nDie Partnerschaft für Demokratie Lampertheim lädt zu einem halbtägigen Workshop am Samstag\, 27. September 2025\, von 12:00 Uhr bis 17:00 Uhr im Römersaal\, Haus am Römer in Lampertheim ein. \nDie Projektidee entstand aus der engagierten Arbeit des zivilgesellschaftlichen Gremiums „Forum Lampertheim“. Seit seiner Gründung zeigt das ehrenamtlich organisierte „Forum Lampertheim“ eindrucksvoll\, wie wirkungsvoll bürgerschaftliches Engagement zum respektvollen und konstruktiven Dialog beitragen kann. Die Partnerschaft für Demokratie Lampertheim fördert das Projekt vollständig und unterstützt damit die Initiative des Forums mit großer Überzeugung. \nDer Workshop wird von einem Referenten des Vereins „Tadel verpflichtet! e.V.“ geleitet. Gemeinsam erarbeiten die Teilnehmenden alltagsnahe Strategien\, um rechtspopulistischen Aussagen respektvoll und bestimmt zu begegnen und sich für ein demokratisches Miteinander stark zu machen. Der Workshop kombiniert fundierte inhaltliche Impulse mit praktischen Übungen und moderierten Diskussionen. So erwerben die Teilnehmenden grundlegendes Wissen über Rechtspopulismus\, reflektieren dessen Auswirkungen im Alltag und lernen\, in unterschiedlichen Situationen souverän zu handeln. \nKlingt interessant? Dann melde dich an. Kostenlose Tickets gibt es nur per Reservierung. Wir freuen uns auf deine Teilnahme! \nDurch eine Vollförderung im Rahmen des Bundesprogramms „Demokratie leben!“ des Bundesministeriums für Bildung\, Familie\, Senioren\, Frauen und Jugend sowie des Landesprogramms „Hessen – aktiv für Demokratie und gegen Extremismus“ ist der Eintritt kostenfrei. \n  \nKostenlose Ticktes jetzt buchen
URL:https://www.pfd-lampertheim.de/veranstaltung/workshop/
LOCATION:Römersaal\, Haus am Römer\, Domgasse 2\, Lampertheim\, 68623\, Deutschland
CATEGORIES:Veranstaltungen PfD Lampertheim
ATTACH;FMTTYPE=image/webp:https://www.pfd-lampertheim.de/wp-content/uploads/Workshop_Header-1.webp
END:VEVENT
END:VCALENDAR