BEGIN:VCALENDAR
VERSION:2.0
PRODID:-//PfD Lampertheim - ECPv6.15.20//NONSGML v1.0//EN
CALSCALE:GREGORIAN
METHOD:PUBLISH
X-WR-CALNAME:PfD Lampertheim
X-ORIGINAL-URL:https://www.pfd-lampertheim.de
X-WR-CALDESC:Veranstaltungen für PfD Lampertheim
REFRESH-INTERVAL;VALUE=DURATION:PT1H
X-Robots-Tag:noindex
X-PUBLISHED-TTL:PT1H
BEGIN:VTIMEZONE
TZID:Europe/Berlin
BEGIN:DAYLIGHT
TZOFFSETFROM:+0100
TZOFFSETTO:+0200
TZNAME:CEST
DTSTART:20240331T010000
END:DAYLIGHT
BEGIN:STANDARD
TZOFFSETFROM:+0200
TZOFFSETTO:+0100
TZNAME:CET
DTSTART:20241027T010000
END:STANDARD
BEGIN:DAYLIGHT
TZOFFSETFROM:+0100
TZOFFSETTO:+0200
TZNAME:CEST
DTSTART:20250330T010000
END:DAYLIGHT
BEGIN:STANDARD
TZOFFSETFROM:+0200
TZOFFSETTO:+0100
TZNAME:CET
DTSTART:20251026T010000
END:STANDARD
BEGIN:DAYLIGHT
TZOFFSETFROM:+0100
TZOFFSETTO:+0200
TZNAME:CEST
DTSTART:20260329T010000
END:DAYLIGHT
BEGIN:STANDARD
TZOFFSETFROM:+0200
TZOFFSETTO:+0100
TZNAME:CET
DTSTART:20261025T010000
END:STANDARD
END:VTIMEZONE
BEGIN:VEVENT
DTSTART;TZID=Europe/Berlin:20251024T153000
DTEND;TZID=Europe/Berlin:20251024T173000
DTSTAMP:20260421T213445
CREATED:20251002T073334Z
LAST-MODIFIED:20251024T112221Z
UID:3155-1761319800-1761327000@www.pfd-lampertheim.de
SUMMARY:Präventives Kindertheater - „Das hässliche Entlein“
DESCRIPTION:Präventives Kindertheater mit Herz: „Das hässliche Entlein“ und die Schönheit des Andersseins\nAm Freitag\, den 24. Oktober 2025\, lädt das Jugendforum der Partnerschaft für Demokratie Lampertheim gemeinsam mit der Stadtbücherei Lampertheim zum Kindertheater ein. Anlass ist der Tag der Bibliotheken. Die Vorstellung beginnt um 16:00 Uhr. Der Einlass startet bereits um 15:30 Uhr. Veranstaltungsort ist die Stadtbücherei Lampertheim. \n \nDas Galli Theater Wiesbaden spielt „Das hässliche Entlein“. Die Geschichte erzählt von einem kleinen Entlein\, das sich selbst als hässlich empfindet. Auf seiner Reise trifft es viele Tiere und erkennt: Anderssein ist nichts Schlechtes – sondern etwas Besonderes. Am Ende wird aus dem Entlein ein stolzer Schwan. Das Stück richtet sich an Kinder im Grundschulalter. Es vermittelt wichtige Werte wie Selbstakzeptanz\, Vielfalt und Respekt – kindgerecht und spielerisch. Der Eintritt ist kostenlos. Die Stadtbücherei gibt die Tickets während ihrer Öffnungszeiten aus. \nDas Jugendforum der Partnerschaft für Demokratie Lampertheim freut sich über viele Besucher:innen! \nDurch eine Vollförderung im Rahmen des Bundesprogramms „Demokratie leben!“ des Bundesministeriums für Bildung\, Familie\, Senioren\, Frauen und Jugend sowie des Landesprogramms „Hessen – aktiv für Demokratie und gegen Extremismus“ ist der Eintritt kostenfrei.
URL:https://www.pfd-lampertheim.de/veranstaltung/praeventives-kindertheater/
LOCATION:Stadtbücherei\, Domgasse 2\, Lampertheim\, 68623\, Deutschland
CATEGORIES:Veranstaltungen PfD Lampertheim
ATTACH;FMTTYPE=image/webp:https://www.pfd-lampertheim.de/wp-content/uploads/Praeventives-Kindertheater_Header.webp
END:VEVENT
END:VCALENDAR