BEGIN:VCALENDAR
VERSION:2.0
PRODID:-//PfD Lampertheim - ECPv6.15.20//NONSGML v1.0//EN
CALSCALE:GREGORIAN
METHOD:PUBLISH
X-ORIGINAL-URL:https://www.pfd-lampertheim.de
X-WR-CALDESC:Veranstaltungen für PfD Lampertheim
REFRESH-INTERVAL;VALUE=DURATION:PT1H
X-Robots-Tag:noindex
X-PUBLISHED-TTL:PT1H
BEGIN:VTIMEZONE
TZID:Europe/Berlin
BEGIN:DAYLIGHT
TZOFFSETFROM:+0100
TZOFFSETTO:+0200
TZNAME:CEST
DTSTART:20240331T010000
END:DAYLIGHT
BEGIN:STANDARD
TZOFFSETFROM:+0200
TZOFFSETTO:+0100
TZNAME:CET
DTSTART:20241027T010000
END:STANDARD
BEGIN:DAYLIGHT
TZOFFSETFROM:+0100
TZOFFSETTO:+0200
TZNAME:CEST
DTSTART:20250330T010000
END:DAYLIGHT
BEGIN:STANDARD
TZOFFSETFROM:+0200
TZOFFSETTO:+0100
TZNAME:CET
DTSTART:20251026T010000
END:STANDARD
BEGIN:DAYLIGHT
TZOFFSETFROM:+0100
TZOFFSETTO:+0200
TZNAME:CEST
DTSTART:20260329T010000
END:DAYLIGHT
BEGIN:STANDARD
TZOFFSETFROM:+0200
TZOFFSETTO:+0100
TZNAME:CET
DTSTART:20261025T010000
END:STANDARD
END:VTIMEZONE
BEGIN:VEVENT
DTSTART;TZID=Europe/Berlin:20250503T190000
DTEND;TZID=Europe/Berlin:20250503T210000
DTSTAMP:20260422T024528
CREATED:20250926T130638Z
LAST-MODIFIED:20251024T114250Z
UID:2588-1746298800-1746306000@www.pfd-lampertheim.de
SUMMARY:Improvisationstheater
DESCRIPTION:Die Improtöre mit Hans-Peter Stoll präsentieren…\nFrieden oder Widerstand – Das Improvisationstheater\nHerzliche Einladung zum Improvisationstheater am Samstag\, 03.05.2025\, 19:00 Uhr\, Stadtbücherei Lampertheim \nErlebe einen einzigartigen Abend voller Spontanität und Kreativität mit den Improtören\, eine Veranstaltung der Partnerschaft für Demokratie in Lampertheim! Inspiriert durch eine Auswahl an thematischer Literatur\, die von der Stadtbücherei bereitgestellt wird\, entstehen hier einzigartige und einmalige Geschichten. \n\nWas erwartet dich? \n\nUngeplante Geschichten:\nLass dich überraschen\, denn alles entsteht im Moment – ohne vorbereitete Texte oder Figuren.\nInteraktive Teilnahme:\nDu bist ein Teil des Geschehens! Gib den Schauspieler:innen Vorgaben per Zuruf und beeinflusse die Handlung aktiv.\nEmotionale Vielfalt:\nFreue dich auf eine bunte Mischung aus unterhaltsamen und nachdenklichen Szenen\, inspiriert von verschiedenen Büchern.\n\nGenieße einen Abend\, der zum Mitfühlen einlädt. Sei dabei und erlebe Improvisation in ihrer besten Form. \nDieses Improtheater ist Teil der Veranstaltungsreihe „Erinnern und Gedenken: Kriegsende und Friedensverantwortung“ der Stadt Lampertheim in Kooperation mit der Regionalen Diakonie Bergstraße sowie in Kooperation mit weiteren Organisator:innen. \nKlingt interessant? Dann melde dich an. Kostenlose Tickets gibt es nur per Reservierung.\nWir freuen uns auf deine Teilnahme! \nDurch eine Vollförderung im Rahmen des Bundesprogramms „Demokratie leben!“ des Bundesministeriums für Bildung\, Familie\, Senioren\, Frauen und Jugend sowie des Landesprogramms „Hessen – aktiv für Demokratie und gegen Extremismus“ ist der Eintritt kostenfrei. \n  \nKostenlose Ticktes jetzt buchen
URL:https://www.pfd-lampertheim.de/veranstaltung/improvisationstheater/
LOCATION:Stadtbücherei\, Domgasse 2\, Lampertheim\, 68623\, Deutschland
CATEGORIES:Veranstaltungen PfD Lampertheim
ATTACH;FMTTYPE=image/webp:https://www.pfd-lampertheim.de/wp-content/uploads/Improtheater_Header.webp
END:VEVENT
BEGIN:VEVENT
DTSTART;TZID=Europe/Berlin:20250521T193000
DTEND;TZID=Europe/Berlin:20250521T223000
DTSTAMP:20260422T024528
CREATED:20251002T094329Z
LAST-MODIFIED:20251024T114131Z
UID:3202-1747855800-1747866600@www.pfd-lampertheim.de
SUMMARY:„Dass ein gutes Deutschland blühe …“
DESCRIPTION:Musikalische Lesung mit Roman Knižka und Opus 45 anlässlich 80 Jahre Kriegsende\nEinladung zur musikalischen Lesung: „Dass ein gutes Deutschland blühe …“ \nAm 08. Mai 2025 jährt sich das Ende des Zweiten Weltkriegs zum 80. Mal – ein Anlass\, um über Frieden nachzudenken und unsere Verantwortung zu reflektieren. Erleben Sie mit uns eine bewegende Reise in die frühe Nachkriegszeit Deutschlands\, zwischen den Schatten des Nationalsozialismus und dem Streben nach einem demokratischen Neuanfang. \nFotos © Markus C. Hurek\nAls Partnerschaft für Demokratie Lampertheim laden wir herzlich ein\, am 21.05.2025 um 20:00 Uhr (Einlass ab 19:30 Uhr) in der Domkirche in Lampertheim\, Teil eines besonderen Abends zu werden\, der die Herausforderungen und Hoffnungen dieser Zeit lebendig werden lässt. \nRoman Knižka wird Werke von Wolfgang Borchert\, Bertolt Brecht und Nelly Sachs rezitieren und uns so das Schicksal jüdischer KZ-Überlebender\, Vertriebener und Kriegsheimkehrer näherbringen. Das Bläserquintett OPUS 45 interpretiert Kompositionen von György Ligeti\, Karl Amadeus Hartmann\, Dmitri Schostakowitsch und Hanns Eisler\, sowie Werke von Beethoven und Richard Strauss. \nDie musikalische Lesung ist Teil der Veranstaltungsreihe „Erinnern und Gedenken: Kriegsende und Friedensverantwortung“ der Stadt Lampertheim in Kooperation mit der Regionalen Diakonie Bergstraße sowie in Kooperation mit weiteren Organisator:innen. \nKlingt interessant? Dann melde dich an. Kostenlose Tickets gibt es nur per Reservierung. Sei dabei und reflektiere mit uns über Frieden\, Verantwortung und die Hoffnung auf ein besseres Morgen. Wir freuen uns auf deine Teilnahme! \nDurch eine Vollförderung im Rahmen des Bundesprogramms „Demokratie leben!“ des Bundesministeriums für Bildung\, Familie\, Senioren\, Frauen und Jugend sowie des Landesprogramms „Hessen – aktiv für Demokratie und gegen Extremismus“ ist der Eintritt kostenfrei. \n  \nKostenlose Ticktes jetzt buchen
URL:https://www.pfd-lampertheim.de/veranstaltung/dass-ein-gutes-deutschland-bluehe/
LOCATION:Evangelische Domkirche\, Kaiserstraße 2\, Lampertheim\, 68623\, Deutschland
CATEGORIES:Veranstaltungen PfD Lampertheim
ATTACH;FMTTYPE=image/jpeg:https://www.pfd-lampertheim.de/wp-content/uploads/Musikalische-Lesung_80-Jahre-Kriegsende_Header.jpg
END:VEVENT
END:VCALENDAR