BEGIN:VCALENDAR
VERSION:2.0
PRODID:-//PfD Lampertheim - ECPv6.15.20//NONSGML v1.0//EN
CALSCALE:GREGORIAN
METHOD:PUBLISH
X-WR-CALNAME:PfD Lampertheim
X-ORIGINAL-URL:https://www.pfd-lampertheim.de
X-WR-CALDESC:Veranstaltungen für PfD Lampertheim
REFRESH-INTERVAL;VALUE=DURATION:PT1H
X-Robots-Tag:noindex
X-PUBLISHED-TTL:PT1H
BEGIN:VTIMEZONE
TZID:Europe/Berlin
BEGIN:DAYLIGHT
TZOFFSETFROM:+0100
TZOFFSETTO:+0200
TZNAME:CEST
DTSTART:20240331T010000
END:DAYLIGHT
BEGIN:STANDARD
TZOFFSETFROM:+0200
TZOFFSETTO:+0100
TZNAME:CET
DTSTART:20241027T010000
END:STANDARD
BEGIN:DAYLIGHT
TZOFFSETFROM:+0100
TZOFFSETTO:+0200
TZNAME:CEST
DTSTART:20250330T010000
END:DAYLIGHT
BEGIN:STANDARD
TZOFFSETFROM:+0200
TZOFFSETTO:+0100
TZNAME:CET
DTSTART:20251026T010000
END:STANDARD
BEGIN:DAYLIGHT
TZOFFSETFROM:+0100
TZOFFSETTO:+0200
TZNAME:CEST
DTSTART:20260329T010000
END:DAYLIGHT
BEGIN:STANDARD
TZOFFSETFROM:+0200
TZOFFSETTO:+0100
TZNAME:CET
DTSTART:20261025T010000
END:STANDARD
END:VTIMEZONE
BEGIN:VEVENT
DTSTART;TZID=Europe/Berlin:20250604T183000
DTEND;TZID=Europe/Berlin:20250604T210000
DTSTAMP:20260422T012839
CREATED:20251002T084952Z
LAST-MODIFIED:20251024T113945Z
UID:3185-1749061800-1749070800@www.pfd-lampertheim.de
SUMMARY:DOKULIVE: 75 Jahre Europa
DESCRIPTION:Eine multimediale Zeitreise von 1950 – 2025.  \n75 Jahre Schuman-Plan – eine Bilanz!\nHerzliche Einladung zur DOKULIVE am Mittwoch\, 04.06.2025\, 19:00 Uhr (Einlass: 18:30 Uhr) im Sitzungssaal des Stadthauses Lampertheim. 2025 bringt ein bedeutendes Jubiläum mit sich: die Verkündung des Schuman-Plans vom 9. Mai 1950. Es ist der 75. Jahrestag eines historischen Ereignisses und markiert den Beginn der europäischen Integration. Ingo Espenschied (Politologe\, Journalist und Produzent) unternimmt eine spannende multimediale und live kommentierte Zeitreise durch die Geschichte der Europäischen Union. Sein selbst entwickeltes DOKULIVE Format hat in 15 Jahren schon mehr als 300.000 Zuschauer in 11 Ländern begeistert. \nFotos © DOKULIVE / Pawel Sosnowski\nNach 1945 stürzten Nationalismus\, Militarismus und zwei Weltkriege Europa in den Abgrund. Erst 1950 leitete Robert Schuman mit dem Vorschlag eines gemeinsamen Kohle- und Stahlmarktes — aufgenommen von Deutschland\, Frankreich\, Italien\, Belgien\, den Niederlanden und Luxemburg — den Weg zur europäischen Einigung ein\, der später in die Gründung der Europäischen Union mündete.  Die folgenden Jahrzehnte brachten mit der Erweiterung 1973\, der Direktwahl des Europäischen Parlaments 1979 sowie der Etablierung des Binnenmarktes und der EU 1993 wesentliche Fortschritte\, trotz gescheiterter Projekte wie dem Versuch\, eine europäische Armee zu gründen. Heute fordern Nationalismus\, Populismus\, Brexit\, Migrationsdruck\, Klimawandel und der Ukraine-Krieg das europäische Projekt heraus und stellen seine Zukunft grundlegend in Frage. \nErlebe eine Zeitreise auf der Großleinwand mit professioneller Projektions‑ und Tontechnik\, live und fesselnd erzählt von Ingo Espenschied. \nKlingt interessant? Dann melde dich an. Kostenlose Tickets gibt es nur per Reservierung. Wir freuen uns auf deine Teilnahme! \n\nDurch eine Vollförderung im Rahmen des Bundesprogramms „Demokratie leben!“ des Bundesministeriums für Bildung\, Familie\, Senioren\, Frauen und Jugend sowie des Landesprogramms „Hessen – aktiv für Demokratie und gegen Extremismus“ ist der Eintritt kostenfrei. \n  \nKostenlose Ticktes jetzt buchen
URL:https://www.pfd-lampertheim.de/veranstaltung/dokulive-75-jahre-europa/
LOCATION:Sitzungssaal im Stadthaus\, Römerstraße 102\, Lampertheim\, 68623\, Deutschland
CATEGORIES:Veranstaltungen PfD Lampertheim
ATTACH;FMTTYPE=image/webp:https://www.pfd-lampertheim.de/wp-content/uploads/75-Jahre-Europa_Header.webp
END:VEVENT
BEGIN:VEVENT
DTSTART;TZID=Europe/Berlin:20250616T180000
DTEND;TZID=Europe/Berlin:20250816T200000
DTSTAMP:20260422T012839
CREATED:20251002T081238Z
LAST-MODIFIED:20251024T113823Z
UID:3179-1750096800-1755374400@www.pfd-lampertheim.de
SUMMARY:Konstituierende Sitzung des Bündnisses der Partnerschaft für Demokratie Lampertheim
DESCRIPTION:Gesucht werden engagierte Mitbürgerinnen und Mitbürger!\n  \nDie Partnerschaft für Demokratie Lampertheim lädt engagierte Bürgerinnen und Bürger herzlich dazu ein\, sich ehrenamtlich für ein demokratisches\, vielfältiges und respektvolles Miteinander in Lampertheim einzusetzen. Im Rahmen der neuen Förderperiode des Bundesprogramms „Demokratie leben!“ durch das Bundesministerium für Bildung\, Familie\, Senioren\, Frauen und Jugend bietet die Partnerschaft zahlreiche Möglichkeiten zur aktiven Mitwirkung der Zivilbevölkerung. Ziel ist es\, Projekte zu fördern\, die sich gegen Extremismus\, gruppenbezogene Menschenfeindlichkeit und demokratiefeindliche Tendenzen richten und sich für die Demokratie und eine vielfältige Gesellschaft einsetzen. Im Mittelpunkt stehen dabei die Stärkung demokratischer Kompetenzen\, die Förderung gesellschaftlicher Vielfalt sowie die Beteiligung junger Menschen an politischen und gesellschaftlichen Prozessen. \nInteressierte Bürgerinnen und Bürger können sich auf vielfältige Weise einbringen – sei es durch die Mitarbeit an lokalen Projekten\, die Unterstützung bei Veranstaltungen oder durch die Mitwirkung im neu benannten „Bündnis der Partnerschaft für Demokratie Lampertheim“ (ehemals „Begleitausschuss der Partnerschaft für Demokratie“)\, dem lokalen Beratungsgremium zur Förderung von Demokratieprojekten. Alle ehrenamtlich Engagierten erhalten fachliche Begleitung\, Zugang zu Fortbildungen und die Chance\, ihre eigenen Vorstellungen mit Hilfe von Fördermitteln zu realisieren. Die Partnerschaft für Demokratie schafft einen Rahmen für Austausch\, Vernetzung und gemeinsames Handeln. \nEin guter Anlass zum Einstieg bietet die konstituierende Sitzung des Bündnisses\, die am 16. Juni 2025 um 18 Uhr im Sitzungssaal des Stadthauses in der Römerstraße 102 stattfindet. Interessierte Bürgerinnen und Bürger sind herzlich eingeladen\, an dieser Sitzung teilzunehmen. Eine vorherige Anmeldung bei der Koordinierungs- und Fachstelle unter der Mailadresse demokratie-lampertheim.bergstrasse@regionale-diakonie.de ist erwünscht. \nWer Interesse hat\, sich für Demokratie\, Vielfalt und Extremismusprävention in Lampertheim zu engagieren\, kann sich direkt an die Koordinierungs- und Fachstelle wenden. Weitere Informationen sowie Kontaktdaten sind auf der Website der Partnerschaft für Demokratie Lampertheim unter www.pfd-lampertheim.de zu finden. Demokratie lebt vom Mitmachen – und jede Stimme zählt. \nQuelle: Presseinformation der Stadt Lampertheim\, 04.06.2025\nFoto: Gerd Altmann auf Pixabay
URL:https://www.pfd-lampertheim.de/veranstaltung/konstituierende-sitzung-des-buendnisses-der-partnerschaft-fuer-demokratie-lampertheim/
LOCATION:Sitzungssaal im Stadthaus\, Römerstraße 102\, Lampertheim\, 68623\, Deutschland
CATEGORIES:Veranstaltungen PfD Lampertheim
ATTACH;FMTTYPE=image/webp:https://www.pfd-lampertheim.de/wp-content/uploads/pfd-lampertheim_2025-06-04_header.webp
END:VEVENT
END:VCALENDAR