BEGIN:VCALENDAR
VERSION:2.0
PRODID:-//PfD Lampertheim - ECPv6.15.20//NONSGML v1.0//EN
CALSCALE:GREGORIAN
METHOD:PUBLISH
X-WR-CALNAME:PfD Lampertheim
X-ORIGINAL-URL:https://www.pfd-lampertheim.de
X-WR-CALDESC:Veranstaltungen für PfD Lampertheim
REFRESH-INTERVAL;VALUE=DURATION:PT1H
X-Robots-Tag:noindex
X-PUBLISHED-TTL:PT1H
BEGIN:VTIMEZONE
TZID:Europe/Berlin
BEGIN:DAYLIGHT
TZOFFSETFROM:+0100
TZOFFSETTO:+0200
TZNAME:CEST
DTSTART:20240331T010000
END:DAYLIGHT
BEGIN:STANDARD
TZOFFSETFROM:+0200
TZOFFSETTO:+0100
TZNAME:CET
DTSTART:20241027T010000
END:STANDARD
BEGIN:DAYLIGHT
TZOFFSETFROM:+0100
TZOFFSETTO:+0200
TZNAME:CEST
DTSTART:20250330T010000
END:DAYLIGHT
BEGIN:STANDARD
TZOFFSETFROM:+0200
TZOFFSETTO:+0100
TZNAME:CET
DTSTART:20251026T010000
END:STANDARD
BEGIN:DAYLIGHT
TZOFFSETFROM:+0100
TZOFFSETTO:+0200
TZNAME:CEST
DTSTART:20260329T010000
END:DAYLIGHT
BEGIN:STANDARD
TZOFFSETFROM:+0200
TZOFFSETTO:+0100
TZNAME:CET
DTSTART:20261025T010000
END:STANDARD
END:VTIMEZONE
BEGIN:VEVENT
DTSTART;TZID=Europe/Berlin:20251010T173000
DTEND;TZID=Europe/Berlin:20251010T183000
DTSTAMP:20260421T201719
CREATED:20251010T092215Z
LAST-MODIFIED:20251024T111703Z
UID:4201-1760117400-1760121000@www.pfd-lampertheim.de
SUMMARY:Inklusiver Tanzkreis
DESCRIPTION:Gemeinsam tanzen – ein Mitmachprojekt für alle!\nUnter der Säule der Vielfaltsgestaltung fördert die Partnerschaft für Demokratie Lampertheim Projekte\, die Barrieren abbauen und Begegnung auf Augenhöhe ermöglichen. Ein lebendiges Beispiel dafür ist „Gemeinsam tanzen – ein Mitmachprojekt für alle!“\, das von der Lebenshilfe Lampertheim und Ried e.V.  als Projektträger durchgeführt wird. \nDas inklusive Tanzprojekt verbindet Menschen jeden Alters\, jeder Herkunft und jeder Fähigkeit durch gemeinsames Tanzen und demokratische Mitbestimmung bei der Auswahl von Musik\, Choreografien und Paartanz. Auf diese Weise werden Vorurteile überwunden\, neue Netzwerke geknüpft und Solidarität gestärkt. \nWas dich erwartet:\n\nVielfältige Tanzformen – von klassisch bis kreativ\nEin wertschätzendes\, unterstützendes Umfeld\nRaum für Ausdruck\, Begegnung und Lebensfreude\n\nWarum du dabei sein solltest:\nDer inklusive Tanzkreis ist mehr als nur Bewegung – er ist ein Ort der Begegnung\, der Teilhabe und des gegenseitigen Respekts. Hier werden Barrieren abgebaut\, Selbstvertrauen gestärkt und neue Perspektiven eröffnet. Jeder Mensch bringt seine ganz eigenen Fähigkeiten mit – und genau das macht diesen Kreis so besonders. \nMach mit und werde Teil einer bunten\, lebendigen Tanzgemeinschaft! \nTermine jeweils freitags von 17:30 Uhr bis 18:30 Uhr:\n\n05. September 2025 (Startveranstaltung)\n19. September 2025\n10. Oktober 2025\n07. November 2025\n28. November 2025\n05. Dezember 2025 (Abschlussveranstaltung\, Beginn bereits um 16:30 Uhr).\n\nAnmeldung über anmeldung@lebenshilfe-lampertheim.de \nDurch eine Vollförderung im Rahmen des Bundesprogramms „Demokratie leben!“ des Bundesministeriums für Bildung\, Familie\, Senioren\, Frauen und Jugend sowie des Landesprogramms „Hessen – aktiv für Demokratie und gegen Extremismus“ ist der Eintritt kostenfrei.
URL:https://www.pfd-lampertheim.de/veranstaltung/inklusiver-tanzkreis-5/
LOCATION:Evangelische Lukasgemeinde Lampertheim\, Römerstraße 94\, Lampertheim\, 68623\, Deutschland
CATEGORIES:Veranstaltungen PfD Lampertheim
ATTACH;FMTTYPE=image/webp:https://www.pfd-lampertheim.de/wp-content/uploads/Inklusiver-Tanzkreis_Header.webp
END:VEVENT
BEGIN:VEVENT
DTSTART;TZID=Europe/Berlin:20251024T153000
DTEND;TZID=Europe/Berlin:20251024T173000
DTSTAMP:20260421T201719
CREATED:20251002T073334Z
LAST-MODIFIED:20251024T112221Z
UID:3155-1761319800-1761327000@www.pfd-lampertheim.de
SUMMARY:Präventives Kindertheater - „Das hässliche Entlein“
DESCRIPTION:Präventives Kindertheater mit Herz: „Das hässliche Entlein“ und die Schönheit des Andersseins\nAm Freitag\, den 24. Oktober 2025\, lädt das Jugendforum der Partnerschaft für Demokratie Lampertheim gemeinsam mit der Stadtbücherei Lampertheim zum Kindertheater ein. Anlass ist der Tag der Bibliotheken. Die Vorstellung beginnt um 16:00 Uhr. Der Einlass startet bereits um 15:30 Uhr. Veranstaltungsort ist die Stadtbücherei Lampertheim. \n \nDas Galli Theater Wiesbaden spielt „Das hässliche Entlein“. Die Geschichte erzählt von einem kleinen Entlein\, das sich selbst als hässlich empfindet. Auf seiner Reise trifft es viele Tiere und erkennt: Anderssein ist nichts Schlechtes – sondern etwas Besonderes. Am Ende wird aus dem Entlein ein stolzer Schwan. Das Stück richtet sich an Kinder im Grundschulalter. Es vermittelt wichtige Werte wie Selbstakzeptanz\, Vielfalt und Respekt – kindgerecht und spielerisch. Der Eintritt ist kostenlos. Die Stadtbücherei gibt die Tickets während ihrer Öffnungszeiten aus. \nDas Jugendforum der Partnerschaft für Demokratie Lampertheim freut sich über viele Besucher:innen! \nDurch eine Vollförderung im Rahmen des Bundesprogramms „Demokratie leben!“ des Bundesministeriums für Bildung\, Familie\, Senioren\, Frauen und Jugend sowie des Landesprogramms „Hessen – aktiv für Demokratie und gegen Extremismus“ ist der Eintritt kostenfrei.
URL:https://www.pfd-lampertheim.de/veranstaltung/praeventives-kindertheater/
LOCATION:Stadtbücherei\, Domgasse 2\, Lampertheim\, 68623\, Deutschland
CATEGORIES:Veranstaltungen PfD Lampertheim
ATTACH;FMTTYPE=image/webp:https://www.pfd-lampertheim.de/wp-content/uploads/Praeventives-Kindertheater_Header.webp
END:VEVENT
BEGIN:VEVENT
DTSTART;TZID=Europe/Berlin:20251027T180000
DTEND;TZID=Europe/Berlin:20251027T200000
DTSTAMP:20260421T201719
CREATED:20250926T110725Z
LAST-MODIFIED:20251024T111530Z
UID:2558-1761588000-1761595200@www.pfd-lampertheim.de
SUMMARY:Bündnissitzung der Partnerschaft für Demokratie Lampertheim
DESCRIPTION:Einladung zur nächsten Bündnissitzung der Partnerschaft für Demokratie Lampertheim\n\nDatum: Montag\, 27. Oktober 2025\nUhrzeit: 18:00 Uhr\nOrt: Sitzungssaal des Stadthauses Lampertheim\n\nGäste und neue Mitglieder herzlich willkommen!\nNeben interessierten Gästen können auch neue Mitglieder in das „Bündnis der Partnerschaft für Demokratie Lampertheim“ aufgenommen werden. Wir freuen uns besonders\, wenn sich Bürgerinnen und Bürger aktiv beteiligen und ihre Perspektiven einbringen. \nMöglichkeiten der Beteiligung\nIm Rahmen der neuen Förderperiode des Bundesprogramms „Demokratie leben!“ des Bundesministeriums für Bildung\, Familie\, Senioren\, Frauen und Jugend bietet die Partnerschaft zahlreiche Mitwirkungsmöglichkeiten zur Förderung von Projekten gegen Extremismus\, gruppenbezogene Menschenfeindlichkeit und demokratiefeindliche Tendenzen. Dabei stehen die Stärkung demokratischer Kompetenzen\, inklusive Vielfaltsgestaltung\, gesellschaftliche Vielfalt\, Inklusion und die Beteiligung im Mittelpunkt. \nInteressierte können sich einbringen durch: \n\nProjektideen\nMitarbeit an lokalen Projekten\nMitwirkung im „Bündnis der Partnerschaft für Demokratie Lampertheim“ (ehemals Begleitausschuss)\, dem lokalen Beratungsgremium zur Förderung von Projekten im Rahmen des Bundesprogramms „Demokratie leben!“.\n\nAlle Engagierten erhalten fachliche Begleitung\, Zugang zu Fortbildungen und die Chance\, eigene Projektideen einzubringen. Die Partnerschaft für Demokratie schafft einen Rahmen für Austausch\, Vernetzung und gemeinsames Handeln. \nEine vorherige Anmeldung bei der Koordinierungs- und Fachstelle ist  unter der Mailadresse demokratie-lampertheim.bergstrasse@regionale-diakonie.de möglich.
URL:https://www.pfd-lampertheim.de/veranstaltung/buendnissitzung-der-partnerschaft-fuer-demokratie-lampertheim/
LOCATION:Sitzungssaal im Stadthaus\, Römerstraße 102\, Lampertheim\, 68623\, Deutschland
CATEGORIES:Veranstaltungen PfD Lampertheim
ATTACH;FMTTYPE=image/webp:https://www.pfd-lampertheim.de/wp-content/uploads/pfd-lampertheim_2025-06-04_header.webp
END:VEVENT
END:VCALENDAR