BEGIN:VCALENDAR
VERSION:2.0
PRODID:-//PfD Lampertheim - ECPv6.15.20//NONSGML v1.0//EN
CALSCALE:GREGORIAN
METHOD:PUBLISH
X-ORIGINAL-URL:https://www.pfd-lampertheim.de
X-WR-CALDESC:Veranstaltungen für PfD Lampertheim
REFRESH-INTERVAL;VALUE=DURATION:PT1H
X-Robots-Tag:noindex
X-PUBLISHED-TTL:PT1H
BEGIN:VTIMEZONE
TZID:Europe/Berlin
BEGIN:DAYLIGHT
TZOFFSETFROM:+0100
TZOFFSETTO:+0200
TZNAME:CEST
DTSTART:20240331T010000
END:DAYLIGHT
BEGIN:STANDARD
TZOFFSETFROM:+0200
TZOFFSETTO:+0100
TZNAME:CET
DTSTART:20241027T010000
END:STANDARD
BEGIN:DAYLIGHT
TZOFFSETFROM:+0100
TZOFFSETTO:+0200
TZNAME:CEST
DTSTART:20250330T010000
END:DAYLIGHT
BEGIN:STANDARD
TZOFFSETFROM:+0200
TZOFFSETTO:+0100
TZNAME:CET
DTSTART:20251026T010000
END:STANDARD
BEGIN:DAYLIGHT
TZOFFSETFROM:+0100
TZOFFSETTO:+0200
TZNAME:CEST
DTSTART:20260329T010000
END:DAYLIGHT
BEGIN:STANDARD
TZOFFSETFROM:+0200
TZOFFSETTO:+0100
TZNAME:CET
DTSTART:20261025T010000
END:STANDARD
END:VTIMEZONE
BEGIN:VEVENT
DTSTART;TZID=Europe/Berlin:20251107T173000
DTEND;TZID=Europe/Berlin:20251107T183000
DTSTAMP:20260421T190327
CREATED:20251010T091942Z
LAST-MODIFIED:20251024T112003Z
UID:4197-1762536600-1762540200@www.pfd-lampertheim.de
SUMMARY:Inklusiver Tanzkreis
DESCRIPTION:Gemeinsam tanzen – ein Mitmachprojekt für alle!\nUnter der Säule der Vielfaltsgestaltung fördert die Partnerschaft für Demokratie Lampertheim Projekte\, die Barrieren abbauen und Begegnung auf Augenhöhe ermöglichen. Ein lebendiges Beispiel dafür ist „Gemeinsam tanzen – ein Mitmachprojekt für alle!“\, das von der Lebenshilfe Lampertheim und Ried e.V.  als Projektträger durchgeführt wird. \nDas inklusive Tanzprojekt verbindet Menschen jeden Alters\, jeder Herkunft und jeder Fähigkeit durch gemeinsames Tanzen und demokratische Mitbestimmung bei der Auswahl von Musik\, Choreografien und Paartanz. Auf diese Weise werden Vorurteile überwunden\, neue Netzwerke geknüpft und Solidarität gestärkt. \nWas dich erwartet:\n\nVielfältige Tanzformen – von klassisch bis kreativ\nEin wertschätzendes\, unterstützendes Umfeld\nRaum für Ausdruck\, Begegnung und Lebensfreude\n\nWarum du dabei sein solltest:\nDer inklusive Tanzkreis ist mehr als nur Bewegung – er ist ein Ort der Begegnung\, der Teilhabe und des gegenseitigen Respekts. Hier werden Barrieren abgebaut\, Selbstvertrauen gestärkt und neue Perspektiven eröffnet. Jeder Mensch bringt seine ganz eigenen Fähigkeiten mit – und genau das macht diesen Kreis so besonders. \nMach mit und werde Teil einer bunten\, lebendigen Tanzgemeinschaft! \nTermine jeweils freitags von 17:30 Uhr bis 18:30 Uhr:\n\n05. September 2025 (Startveranstaltung)\n19. September 2025\n10. Oktober 2025\n07. November 2025\n28. November 2025\n05. Dezember 2025 (Abschlussveranstaltung\, Beginn bereits um 16:30 Uhr).\n\nAnmeldung über anmeldung@lebenshilfe-lampertheim.de \nDurch eine Vollförderung im Rahmen des Bundesprogramms „Demokratie leben!“ des Bundesministeriums für Bildung\, Familie\, Senioren\, Frauen und Jugend sowie des Landesprogramms „Hessen – aktiv für Demokratie und gegen Extremismus“ ist der Eintritt kostenfrei.
URL:https://www.pfd-lampertheim.de/veranstaltung/inklusiver-tanzkreis-3/
LOCATION:Evangelische Lukasgemeinde Lampertheim\, Römerstraße 94\, Lampertheim\, 68623\, Deutschland
CATEGORIES:Veranstaltungen PfD Lampertheim
ATTACH;FMTTYPE=image/webp:https://www.pfd-lampertheim.de/wp-content/uploads/Inklusiver-Tanzkreis_Header.webp
END:VEVENT
BEGIN:VEVENT
DTSTART;TZID=Europe/Berlin:20251114T143000
DTEND;TZID=Europe/Berlin:20251114T183000
DTSTAMP:20260421T190327
CREATED:20251017T175441Z
LAST-MODIFIED:20251104T134619Z
UID:4525-1763130600-1763145000@www.pfd-lampertheim.de
SUMMARY:Wir rocken die Demokratie!
DESCRIPTION:Demokratiefest 2025 — Mach mit!\nDie Partnerschaft für Demokratie Lampertheim lädt herzlich zum Demokratiefest unter dem Motto „Wir rocken die Demokratie!“ ein: Am Freitag\, den 14. November 2025 feiern wir von 14:30 bis 18:30 Uhr im Schwanensaal Gemeinschaft\, Musik und Mitgestaltung. \n \nErlebe Live-Auftritte von GRENZENLOS STARK und der Musiker‑Initiative Lampertheim (MIL)\, nimm an kreativen Mitmachaktionen für alle Altersgruppen teil und besuche unser World Café für lockere Gespräche und lebhaften Austausch. Kinder der Kita Schwalbennest präsentieren die Ergebnisse ihrer Malaktion „Wir malen Demokratie!“ — bunte Ideen und große Gedanken von kleinen Künstlerinnen und Künstlern. Junge Menschen des Litauischen Gymnasiums präsentieren in einer Poetry‑Show eigene Texte\, die zum Nachdenken über Demokratie anregen\, und es gibt noch vieles mehr. \nGenieße dabei kostenfreie Getränke\, Kuchen und Snacks. Bring Freundinnen und Freunde\, Familie und Nachbarinnen und Nachbarn mit\, probiere die Aktionen aus und tausche dich mit anderen Menschen vor Ort aus — der Eintritt ist frei. \nSei dabei\, feier mit\, gestalte mit — wir freuen uns auf dich! \nDurch eine Vollförderung im Rahmen des Bundesprogramms „Demokratie leben!“ des Bundesministeriums für Bildung\, Familie\, Senioren\, Frauen und Jugend sowie des Landesprogramms „Hessen – aktiv für Demokratie und gegen Extremismus“ ist der Eintritt kostenfrei. \n 
URL:https://www.pfd-lampertheim.de/veranstaltung/wir-rocken-die-demokratie/
LOCATION:Schwanensaal\, Römerstraße 98\, Lampertheim\, 68623\, Deutschland
CATEGORIES:Veranstaltungen PfD Lampertheim
ATTACH;FMTTYPE=image/jpeg:https://www.pfd-lampertheim.de/wp-content/uploads/Demokratiefest_Header-1.jpg
END:VEVENT
BEGIN:VEVENT
DTSTART;TZID=Europe/Berlin:20251114T190000
DTEND;TZID=Europe/Berlin:20251114T190000
DTSTAMP:20260421T190327
CREATED:20251020T055941Z
LAST-MODIFIED:20251024T110626Z
UID:4703-1763146800-1763146800@www.pfd-lampertheim.de
SUMMARY:Feierliche Präsentation der Lampertheimer Erklärung
DESCRIPTION:Lampertheimer Erklärung\nDie feierliche Präsentation der Lampertheimer Erklärung findet am Freitag\, 14. November 2025\, um 19:00 Uhr in der St. Andreas Kirche in Lampertheim statt; die Partnerschaft für Demokratie Lampertheim lädt alle Bürgerinnen und Bürger herzlich ein\, bei diesem wichtigen Anlass ein deutliches Zeichen für Zusammenhalt\, Vielfalt und Respekt zu setzen. \nEntstehung und Hintergrund\nDie Lampertheimer Erklärung ist ein neues\, wegweisendes Projekt zur Stärkung demokratischer Werte in Lampertheim. Entwickelt wurde sie vom zivilgesellschaftlichen Bündnis der Partnerschaft für Demokratie Lampertheim\, dessen engagierte Mitglieder seit einem halben Jahr intensiv an der Formulierung arbeiten. Die Erklärung fasst die Haltung der Menschen in unserer Stadt zu den Grundrechten zusammen und setzt ein klares Zeichen dafür\, Demokratie vor Ort lebendig zu halten — inspiriert von Vorbildern aus anderen Städten und getragen vom gemeinsamen Wunsch nach sichtbarer und gelebter demokratischer Kultur. \nGemeinsam für Demokratie und Zusammenhalt\nDie öffentliche Veranstaltung steht unter dem Motto „Gemeinsam für Demokratie und Zusammenhalt“ und beginnt mit einem Impulsvortrag von Dr. Dennis Riffel von Gegen Vergessen — Für Demokratie e.V.\, in dem er die Bedeutung demokratischer Werte\, zivilgesellschaftlichen Einsatz und konkrete Handlungsmöglichkeiten für den Erhalt unserer Demokratie herausstellt. Musikalisch begleitet wird der Abend von Matthias Karb von der Musiker‑Initiative Lampertheim. Den Abschluss bildet die feierliche Unterzeichnung der Lampertheimer Erklärung\, mit der die Stadtgemeinschaft ihr Bekenntnis zu Toleranz\, Respekt und demokratischem Miteinander sichtbar macht. \nSei dabei — bring deine Stimme ein und feier mit uns das Bekenntnis zu Demokratie und Zusammenhalt. \nDurch eine Vollförderung im Rahmen des Bundesprogramms „Demokratie leben!“ des Bundesministeriums für Bildung\, Familie\, Senioren\, Frauen und Jugend sowie des Landesprogramms „Hessen – aktiv für Demokratie und gegen Extremismus“ ist der Eintritt kostenfrei.
URL:https://www.pfd-lampertheim.de/veranstaltung/feierliche-praesentation-der-lampertheimer-erklaerung/
LOCATION:St. Andreas\, Römerstraße 108\, Lampertheim\, 68623\, Deutschland
CATEGORIES:Veranstaltungen PfD Lampertheim
ATTACH;FMTTYPE=image/jpeg:https://www.pfd-lampertheim.de/wp-content/uploads/Lampertheimer-Erklaerung_Header.jpg
END:VEVENT
BEGIN:VEVENT
DTSTART;TZID=Europe/Berlin:20251128T173000
DTEND;TZID=Europe/Berlin:20251128T183000
DTSTAMP:20260421T190327
CREATED:20251010T091851Z
LAST-MODIFIED:20251024T110739Z
UID:4195-1764351000-1764354600@www.pfd-lampertheim.de
SUMMARY:Inklusiver Tanzkreis
DESCRIPTION:Gemeinsam tanzen – ein Mitmachprojekt für alle!\nUnter der Säule der Vielfaltsgestaltung fördert die Partnerschaft für Demokratie Lampertheim Projekte\, die Barrieren abbauen und Begegnung auf Augenhöhe ermöglichen. Ein lebendiges Beispiel dafür ist „Gemeinsam tanzen – ein Mitmachprojekt für alle!“\, das von der Lebenshilfe Lampertheim und Ried e.V.  als Projektträger durchgeführt wird. \nDas inklusive Tanzprojekt verbindet Menschen jeden Alters\, jeder Herkunft und jeder Fähigkeit durch gemeinsames Tanzen und demokratische Mitbestimmung bei der Auswahl von Musik\, Choreografien und Paartanz. Auf diese Weise werden Vorurteile überwunden\, neue Netzwerke geknüpft und Solidarität gestärkt. \nWas dich erwartet:\n\nVielfältige Tanzformen – von klassisch bis kreativ\nEin wertschätzendes\, unterstützendes Umfeld\nRaum für Ausdruck\, Begegnung und Lebensfreude\n\nWarum du dabei sein solltest:\nDer inklusive Tanzkreis ist mehr als nur Bewegung – er ist ein Ort der Begegnung\, der Teilhabe und des gegenseitigen Respekts. Hier werden Barrieren abgebaut\, Selbstvertrauen gestärkt und neue Perspektiven eröffnet. Jeder Mensch bringt seine ganz eigenen Fähigkeiten mit – und genau das macht diesen Kreis so besonders. \nMach mit und werde Teil einer bunten\, lebendigen Tanzgemeinschaft! \nTermine jeweils freitags von 17:30 Uhr bis 18:30 Uhr:\n\n05. September 2025 (Startveranstaltung)\n19. September 2025\n10. Oktober 2025\n07. November 2025\n28. November 2025\n05. Dezember 2025 (Abschlussveranstaltung\, Beginn bereits um 16:30 Uhr).\n\nAnmeldung über anmeldung@lebenshilfe-lampertheim.de \nDurch eine Vollförderung im Rahmen des Bundesprogramms „Demokratie leben!“ des Bundesministeriums für Bildung\, Familie\, Senioren\, Frauen und Jugend sowie des Landesprogramms „Hessen – aktiv für Demokratie und gegen Extremismus“ ist der Eintritt kostenfrei.
URL:https://www.pfd-lampertheim.de/veranstaltung/inklusiver-tanzkreis-2/
LOCATION:Evangelische Lukasgemeinde Lampertheim\, Römerstraße 94\, Lampertheim\, 68623\, Deutschland
CATEGORIES:Veranstaltungen PfD Lampertheim
ATTACH;FMTTYPE=image/webp:https://www.pfd-lampertheim.de/wp-content/uploads/Inklusiver-Tanzkreis_Header.webp
END:VEVENT
END:VCALENDAR